BEGIN:VCALENDAR
VERSION:2.0
PRODID:-//Union Musicale de Golbey - ECPv6.15.17.1//NONSGML v1.0//EN
CALSCALE:GREGORIAN
METHOD:PUBLISH
X-ORIGINAL-URL:https://unionmusicalegolbey.fr
X-WR-CALDESC:Évènements pour Union Musicale de Golbey
REFRESH-INTERVAL;VALUE=DURATION:PT1H
X-Robots-Tag:noindex
X-PUBLISHED-TTL:PT1H
BEGIN:VTIMEZONE
TZID:Europe/Paris
BEGIN:DAYLIGHT
TZOFFSETFROM:+0100
TZOFFSETTO:+0200
TZNAME:CEST
DTSTART:20240331T010000
END:DAYLIGHT
BEGIN:STANDARD
TZOFFSETFROM:+0200
TZOFFSETTO:+0100
TZNAME:CET
DTSTART:20241027T010000
END:STANDARD
BEGIN:DAYLIGHT
TZOFFSETFROM:+0100
TZOFFSETTO:+0200
TZNAME:CEST
DTSTART:20250330T010000
END:DAYLIGHT
BEGIN:STANDARD
TZOFFSETFROM:+0200
TZOFFSETTO:+0100
TZNAME:CET
DTSTART:20251026T010000
END:STANDARD
BEGIN:DAYLIGHT
TZOFFSETFROM:+0100
TZOFFSETTO:+0200
TZNAME:CEST
DTSTART:20260329T010000
END:DAYLIGHT
BEGIN:STANDARD
TZOFFSETFROM:+0200
TZOFFSETTO:+0100
TZNAME:CET
DTSTART:20261025T010000
END:STANDARD
END:VTIMEZONE
BEGIN:VEVENT
DTSTART;TZID=Europe/Paris:20251212T200000
DTEND;TZID=Europe/Paris:20251212T220000
DTSTAMP:20260421T175054
CREATED:20241106T122531Z
LAST-MODIFIED:20251211T200117Z
UID:1986-1765569600-1765576800@unionmusicalegolbey.fr
SUMMARY:Auditions des élèves de l'école de musique de Golbey le 12 décembre 2025
DESCRIPTION:L’école de musique de Golbey vous invite à l’audition de fin d’année de ses élèves\, qui se tiendra le 12 décembre 2025 à partir de 20H à l’auditorium de l’école de musique. Cet événement est une belle opportunité pour le public de découvrir les talents des jeunes musiciens de Golbey et de constater les progrès accomplis au fil de l’année. \n\n\n\nL’audition est avant tout un moment de partage\, où les élèves peuvent se produire devant un public\, apprendre à maîtriser leur trac et montrer l’étendue de leurs progrès avec leurs instruments. Au programme\, des morceaux solo ou en groupe sur divers instruments : batterie\, piano\, flûte traversière\, guitare\, ou encore saxophone. Chacun aura la possibilité de mettre en valeur son travail et de partager sa passion pour la musique. \n \n\n\n \nLes classes de formation musicale de l’école seront également présentes pour proposer des chants et des morceaux collectifs\, illustrant ainsi le fruit de leur apprentissage et leur évolution tout au long de l’année. Que vous soyez amateur de musique ou simplement curieux de découvrir de nouveaux talents\, cet événement promet d’être riche en émotions et en belles découvertes. \n\n\n\nVenez nombreux soutenir les élèves de l’école de musique de Golbey et passer une soirée musicale inoubliable en leur compagnie. L’entrée est libre\, alors n’hésitez pas à venir applaudir ces jeunes artistes qui ont travaillé dur tout au long de l’année pour vous présenter le meilleur d’eux-mêmes.
URL:https://unionmusicalegolbey.fr/evenement/auditions-musique-decembre-2025/
LOCATION:Ecole de musique de Golbey\, 15 rue des Cigognes\, Golbey\, 88190\, France
CATEGORIES:Auditions
ATTACH;FMTTYPE=image/jpeg:https://unionmusicalegolbey.fr/wp-content/uploads/2025/12/2025-12-12-auditions-ecole-musique-golbey.jpg
END:VEVENT
END:VCALENDAR